BEGIN:VCALENDAR
VERSION:2.0
PRODID:-//ChamberMaster//Event Calendar 2.0//EN
METHOD:PUBLISH
X-PUBLISHED-TTL:P3D
REFRESH-INTERVAL:P3D
CALSCALE:GREGORIAN
BEGIN:VEVENT
DTSTART:20240524T150000Z
DTEND:20240524T230000Z
X-MICROSOFT-CDO-ALLDAYEVENT:FALSE
SUMMARY:Grand Opening: Southern Tide
DESCRIPTION:Grand Opening: Southern Tide
X-ALT-DESC;FMTTYPE=text/html:Grand Opening: Southern Tide
LOCATION:412 Fairhope Ave Suite 101 Fairhope AL 36532
UID:e.1304.31365
SEQUENCE:3
DTSTAMP:20260425T233450Z
URL:http://business.eschamber.org/events/details/grand-opening-southern-tide-31365
END:VEVENT

END:VCALENDAR
