BEGIN:VCALENDAR
VERSION:2.0
PRODID:-//ChamberMaster//Event Calendar 2.0//EN
METHOD:PUBLISH
X-PUBLISHED-TTL:P3D
REFRESH-INTERVAL:P3D
CALSCALE:GREGORIAN
BEGIN:VEVENT
DTSTART:20240916T140000Z
DTEND:20240916T150000Z
X-MICROSOFT-CDO-ALLDAYEVENT:FALSE
SUMMARY:Grand Opening: United Water Restoration Group of Mobile
DESCRIPTION:Grand Opening: United Water Restoration Group of Mobile
X-ALT-DESC;FMTTYPE=text/html:Grand Opening: United Water Restoration Group of Mobile<br />\n
LOCATION:25476 Friendship Rd Suite B Daphne\, AL 36526
UID:e.1304.35666
SEQUENCE:3
DTSTAMP:20260425T182419Z
URL:http://business.eschamber.org/events/details/grand-opening-united-water-restoration-group-of-mobile-35666
END:VEVENT

END:VCALENDAR
