BEGIN:VCALENDAR
VERSION:2.0
PRODID:-//ChamberMaster//Event Calendar 2.0//EN
METHOD:PUBLISH
X-PUBLISHED-TTL:P3D
REFRESH-INTERVAL:P3D
CALSCALE:GREGORIAN
BEGIN:VEVENT
DTSTART:20241012T230000Z
DTEND:20241013T020000Z
X-MICROSOFT-CDO-ALLDAYEVENT:FALSE
SUMMARY:Guided Ghost Hunt
DESCRIPTION:Historic Blakeley State Park welcomes the "Ghost Hunting Housewives" for a unique interactive educational program combining a look into the park's storied past with a special introduction to paranormal investigation! Learn about the enduring legends and lore associated with the ghost town of Blakeley and get an opportunity to tag along with veteran ghost hunters as they search for paranormal evidence. GHH has over two decades of experience in leading ghost hunts. Participants will get a chance to use and purchase modern ghost hunting equipment\, such as EMF meters\, REM Pods\, and dowsing rods as GHH staff search for evidence of the spirits of those who fought on Alabama's largest Civil War battlefield.
X-ALT-DESC;FMTTYPE=text/html:Historic Blakeley State Park welcomes the &ldquo\;Ghost Hunting Housewives&rdquo\; for a unique interactive educational program combining a look into the park&rsquo\;s storied past with a special introduction to paranormal investigation! Learn about the enduring legends and lore associated with the ghost town of Blakeley and get an opportunity to tag along with veteran ghost hunters as they search for paranormal evidence. GHH has over two decades of experience in leading ghost hunts. Participants will get a chance to use and purchase modern ghost hunting equipment\, such as EMF meters\, REM Pods\, and dowsing rods as GHH staff search for evidence of the spirits of those who fought on Alabama&rsquo\;s largest Civil War battlefield.
LOCATION:Historic Blakeley State Park
UID:e.1304.32086
SEQUENCE:3
DTSTAMP:20260425T164634Z
URL:http://business.eschamber.org/events/details/guided-ghost-hunt-10-12-2024-32086
END:VEVENT

END:VCALENDAR
