BEGIN:VCALENDAR
VERSION:2.0
PRODID:-//ChamberMaster//Event Calendar 2.0//EN
METHOD:PUBLISH
X-PUBLISHED-TTL:P3D
REFRESH-INTERVAL:P3D
CALSCALE:GREGORIAN
BEGIN:VEVENT
DTSTART;VALUE=DATE:20241018
DTEND;VALUE=DATE:20241021
TRANSP:TRANSPARENT
X-MICROSOFT-CDO-ALLDAYEVENT:TRUE
SUMMARY:Gulf Coast Fungi Fest
DESCRIPTION:Join us for a weekend of mushroom-centric festivities at Weeks Bay Plantation in Fairhope\, Alabama and explore the unique\, vibrant world of fungi. Our festival celebrates sustainability\, local artists and businesses\, and eco-friendly practices while bringing together experts\, enthusiasts\, musicians\, foodies\, and more all in one location.
X-ALT-DESC;FMTTYPE=text/html:<h3 style="text-align:center">Join us for a weekend of mushroom-centric festivities at&nbsp\;<a href="https://weeksbayplantation.com/" style="box-sizing: inherit\; overflow-wrap: break-word\; text-underline-offset: 0.3rem\; text-decoration-thickness: 0.1rem\; transition: text-decoration-thickness var(--duration-short) ease\;" target="_blank" title="https://weeksbayplantation.com/">Weeks Bay Plantation</a>&nbsp\;in Fairhope\, Alabama and explore the unique\, vibrant world of fungi. Our festival celebrates sustainability\, local artists and businesses\, and eco-friendly practices while bringing together experts\, enthusiasts\, musicians\, foodies\, and more&mdash\;all in one location.</h3>\n
LOCATION:
UID:e.1304.35656
SEQUENCE:3
DTSTAMP:20260425T165443Z
URL:http://business.eschamber.org/events/details/gulf-coast-fungi-fest-35656
END:VEVENT

END:VCALENDAR
