BEGIN:VCALENDAR
VERSION:2.0
PRODID:-//ChamberMaster//Event Calendar 2.0//EN
METHOD:PUBLISH
X-PUBLISHED-TTL:P3D
REFRESH-INTERVAL:P3D
CALSCALE:GREGORIAN
BEGIN:VEVENT
DTSTART:20240924T230000Z
DTEND:20240925T003000Z
X-MICROSOFT-CDO-ALLDAYEVENT:FALSE
SUMMARY:Halstead Concert Series
DESCRIPTION:Coastal Alabama Community College's Music Department will host the annual Halstead Concert Series this September. All concerts begin at 6pm and are free to the public. Details of each show are below: Tuesday\, September 10\, 6pm Halstead Concert Series\, CACC Faculty Jazz Concert featuring Rebecca Barry\, saxophone\, CACC Fairhope Campus- Giddens Auditorium. Free admission. Tuesday\, September 17\, 6pm Halstead Concert Series\, Ram Corps from the University of Mobile\, CACC Fairhope Campus- Halstead Amphitheatre. Free admission. Tuesday\, September 24\, 6pm Halstead Concert Series\, USA Vocal Faculty Recital\, featuring Dr. Thomas Rowell\, tenor\, Dr. Megan Zuhowski\, soprano\, and Dr. Laura Moore\, pianist\, CACC Fairhope Campus- Giddens Auditorium. Free admission.
X-ALT-DESC;FMTTYPE=text/html:Coastal Alabama Community College&#39\;s Music Department will host the annual Halstead Concert Series this September. All concerts begin at 6pm and are free to the public. Details of each show are below: Tuesday\, September 10\, 6pm Halstead Concert Series\, CACC Faculty Jazz Concert featuring Rebecca Barry\, saxophone\, CACC Fairhope Campus- Giddens Auditorium. Free admission. Tuesday\, September 17\, 6pm Halstead Concert Series\, Ram Corps from the University of Mobile\, CACC Fairhope Campus- Halstead Amphitheatre. Free admission. Tuesday\, September 24\, 6pm Halstead Concert Series\, USA Vocal Faculty Recital\, featuring Dr. Thomas Rowell\, tenor\, Dr. Megan Zuhowski\, soprano\, and Dr. Laura Moore\, pianist\, CACC Fairhope Campus- Giddens Auditorium. Free admission.
LOCATION:Coastal Alabama Community College Fairhope Campus
UID:e.1304.35652
SEQUENCE:3
DTSTAMP:20260425T182053Z
URL:http://business.eschamber.org/events/details/halstead-concert-series-09-24-2024-35652
END:VEVENT

END:VCALENDAR
