BEGIN:VCALENDAR
VERSION:2.0
PRODID:-//ChamberMaster//Event Calendar 2.0//EN
METHOD:PUBLISH
X-PUBLISHED-TTL:P3D
REFRESH-INTERVAL:P3D
CALSCALE:GREGORIAN
BEGIN:VEVENT
DTSTART:20240904T170000Z
DTEND:20240904T170000Z
X-MICROSOFT-CDO-ALLDAYEVENT:FALSE
SUMMARY:HEADSHOT POP-UP
DESCRIPTION:Cindy McCrory of Blue Room Photography is hosting a headshot pop-up event so you can get a quick headshot made! Time is 9 am - 4 pm at Bill-e's Barn\, 19992 Hwy 181 in Fairhope. Reserve your time here: https://tinyurl.com/BLUE-ROOM-HEADSHOT-SPECIAL Walk-ins welcome (you may have to wait a bit). As a thank you\, you will be given a $10 coupon* to use toward lunch or dinner! *Coupon is good through closing on the same day\, September 4\, 2024.
X-ALT-DESC;FMTTYPE=text/html:Cindy McCrory of Blue Room Photography is hosting a headshot pop-up event so you can get a quick headshot made! Time is 9 am - 4 pm at Bill-e&#39\;s Barn\, 19992 Hwy 181 in Fairhope. Reserve your time here:&nbsp\;<a data-auth="NotApplicable" data-linkindex="0" href="https://tinyurl.com/BLUE-ROOM-HEADSHOT-SPECIAL" id="LPlnk313276" rel="noopener noreferrer" style="border: 0px\; font-variant-numeric: inherit\; font-variant-east-asian: inherit\; font-variant-alternates: inherit\; font-variant-position: inherit\; font-stretch: inherit\; font-size: 13.3333px\; line-height: inherit\; font-family: Aptos\, Aptos_EmbeddedFont\, Aptos_MSFontService\, Calibri\, Helvetica\, sans-serif\; font-optical-sizing: inherit\; font-kerning: inherit\; font-feature-settings: inherit\; font-variation-settings: inherit\; margin: 0px\; padding: 0px\; vertical-align: baseline\; outline: 0px\;" target="_blank">https://tinyurl.com/BLUE-ROOM-HEADSHOT-SPECIAL</a> Walk-ins welcome (you may have to wait a bit). As a thank you\, you will be given a $10 coupon* to use toward lunch or dinner! *Coupon is good through closing on the same day\, September 4\, 2024.
LOCATION:Bill-E's Red Barn 19992 Hwy 181 Fairhope\, AL
UID:e.1304.35625
SEQUENCE:3
DTSTAMP:20260425T181247Z
URL:http://business.eschamber.org/events/details/headshot-pop-up-35625
END:VEVENT

END:VCALENDAR
