BEGIN:VCALENDAR
VERSION:2.0
PRODID:-//ChamberMaster//Event Calendar 2.0//EN
METHOD:PUBLISH
X-PUBLISHED-TTL:P3D
REFRESH-INTERVAL:P3D
CALSCALE:GREGORIAN
BEGIN:VEVENT
DTSTART:20241214T200000Z
DTEND:20241214T230000Z
X-MICROSOFT-CDO-ALLDAYEVENT:FALSE
SUMMARY:Holiday Market & Open House
DESCRIPTION:Mobile Museum of Art presents Holiday Market & Open House
X-ALT-DESC;FMTTYPE=text/html:Mobile Museum of Art presents Holiday Market &amp\; Open House
LOCATION:Mobile Museum of Art\, 4850 Museum Dr\, Mobile\, AL 36608
UID:e.1304.35976
SEQUENCE:3
DTSTAMP:20260425T124307Z
URL:http://business.eschamber.org/events/details/holiday-market-open-house-35976
END:VEVENT

END:VCALENDAR
