BEGIN:VCALENDAR
VERSION:2.0
PRODID:-//ChamberMaster//Event Calendar 2.0//EN
METHOD:PUBLISH
X-PUBLISHED-TTL:P3D
REFRESH-INTERVAL:P3D
CALSCALE:GREGORIAN
BEGIN:VEVENT
DTSTART;VALUE=DATE:20240203
DTEND;VALUE=DATE:20240206
TRANSP:TRANSPARENT
X-MICROSOFT-CDO-ALLDAYEVENT:TRUE
SUMMARY:https://www.africatowntours.com/ Africatown's Spirit of Our Ancestors Ocean in My Bones Staring Chief Lewis as King Glele/ wife Zora N. Hurston
DESCRIPTION:Shop | Ohene Twum Architecture (africatowntours.com)\n\n\n\n  \n\nPre-order book The Making of a Chief by Chief Lewis ahead of time or purchase a copy in the America's top 5 spaces to visit\, The Africatown Heritage House. Chief and Karen Lewis (Childrens book author) will do a book signing following each day's performance. Make your reservations for the play once seats are made available on the Clotilda Descendants website (Tickets are free/ space is limited). Alabamians make history on stage for the 3rd year. Come and share in the moment.
X-ALT-DESC;FMTTYPE=text/html:<a href="https://www.africatowntours.com/merchandise">Shop | Ohene Twum Architecture (africatowntours.com)<br />\n<br />\n&nbsp\;</a>&nbsp\;<br />\nPre-order book The Making of a Chief by Chief Lewis ahead of time or purchase a copy in the America&#39\;s top 5 spaces to visit\, The Africatown Heritage House. Chief and Karen Lewis (Childrens book author) will do a book signing following each day&#39\;s performance. Make your reservations for the play once seats are made available on the Clotilda Descendants website (Tickets are free/ space is limited). Alabamians make history on stage for the 3rd year. Come and share in the moment.&nbsp\;
LOCATION:800 Whitley\, St Mobile\, AL 36610 Mobile County Training School (site school gym)
UID:e.1304.28876
SEQUENCE:3
DTSTAMP:20260426T035144Z
URL:http://business.eschamber.org/events/details/https-www-africatowntours-com-africatown-s-spirit-of-our-ancestors-ocean-in-my-bones-staring-chief-lewis-as-king-glele-wife-zora-n-hurston-02-03-2024-28876
END:VEVENT

END:VCALENDAR
