BEGIN:VCALENDAR
VERSION:2.0
PRODID:-//ChamberMaster//Event Calendar 2.0//EN
METHOD:PUBLISH
X-PUBLISHED-TTL:P3D
REFRESH-INTERVAL:P3D
CALSCALE:GREGORIAN
BEGIN:VEVENT
DTSTART:20240926T210000Z
DTEND:20240927T000000Z
X-MICROSOFT-CDO-ALLDAYEVENT:FALSE
SUMMARY:Kiwanis 4th Annual 9-hole Golf Tournament
DESCRIPTION:The Daphne Spanish Fort Kiwanis Club is holding their 4th Annual 9-Hole 2 Person Scramble Golf Tournament at the Rock Creek Golf Club. Send registration and checks to P.O. Box 2001\, Daphne\, AL 36526.
X-ALT-DESC;FMTTYPE=text/html:The Daphne Spanish Fort Kiwanis Club is holding their 4th Annual 9-Hole 2 Person Scramble Golf Tournament at the Rock Creek Golf Club. Send registration and checks to P.O. Box 2001\, Daphne\, AL 36526.
LOCATION:Rock Creek Golf Club\, 140 Clubhouse Drive\, Fairhope\, AL 36532
UID:e.1304.35646
SEQUENCE:3
DTSTAMP:20260425T181344Z
URL:http://business.eschamber.org/events/details/kiwanis-4th-annual-9-hole-golf-tournament-35646
END:VEVENT

END:VCALENDAR
