BEGIN:VCALENDAR
VERSION:2.0
PRODID:-//ChamberMaster//Event Calendar 2.0//EN
METHOD:PUBLISH
X-PUBLISHED-TTL:P3D
REFRESH-INTERVAL:P3D
CALSCALE:GREGORIAN
BEGIN:VEVENT
DTSTART:20240204T004500Z
DTEND:20240204T023000Z
X-MICROSOFT-CDO-ALLDAYEVENT:FALSE
SUMMARY:KOER Mardi Gras Parade - 2024
DESCRIPTION:Mardi Gras Parade
X-ALT-DESC;FMTTYPE=text/html:Mardi Gras Parade
LOCATION:downtown Fairhope
UID:e.1304.29103
SEQUENCE:3
DTSTAMP:20260426T034325Z
URL:http://business.eschamber.org/events/details/koer-mardi-gras-parade-2024-29103
END:VEVENT

END:VCALENDAR
