BEGIN:VCALENDAR
VERSION:2.0
PRODID:-//ChamberMaster//Event Calendar 2.0//EN
METHOD:PUBLISH
X-PUBLISHED-TTL:P3D
REFRESH-INTERVAL:P3D
CALSCALE:GREGORIAN
BEGIN:VEVENT
DTSTART:20240203T210000Z
DTEND:20240204T003000Z
X-MICROSOFT-CDO-ALLDAYEVENT:FALSE
SUMMARY:Krewe du Kidz Masquerade Street Party 2024
DESCRIPTION:Let's kickoff an epic Mardi Gras season at the Krewe du Kidz Masquerade Street party throughout Downtown OWA on February 3 from 4 to 6:30pm! From Moon Pie Bingo to mask decorating and Mardi Gras themed glitter tattoos\, every corner of this carnival is full of family-friendly activities for young revelers. With this DJ-fueled dance party and stilt walker performance\, this event is a jazzy good time for the whole family. Let the good times roll at Krewe de Kidz Masquerade! \n\nFor more info: https://visitowa.com/kdk-masquerade/
X-ALT-DESC;FMTTYPE=text/html:<span style="font-size:12.0pt">Let&rsquo\;s kickoff an epic Mardi Gras season at the Krewe du Kidz Masquerade Street party throughout Downtown OWA on February 3 from 4 to 6:30pm! From Moon Pie Bingo to mask decorating and Mardi Gras themed glitter tattoos\, every corner of this carnival is full of family-friendly activities for young revelers. With this DJ-fueled dance party and stilt walker performance\, this event is a jazzy good time for the whole family. Let the good times roll at Krewe de Kidz Masquerade! </span><br />\n<span style="font-size:12.0pt">For more info: <a href="https://visitowa.com/kdk-masquerade/">https://visitowa.com/kdk-masquerade/</a> </span>
LOCATION:Downtown OWA
UID:e.1304.29101
SEQUENCE:3
DTSTAMP:20260426T034843Z
URL:http://business.eschamber.org/events/details/krewe-du-kidz-masquerade-street-party-2024-29101
END:VEVENT

END:VCALENDAR
