BEGIN:VCALENDAR
VERSION:2.0
PRODID:-//ChamberMaster//Event Calendar 2.0//EN
METHOD:PUBLISH
X-PUBLISHED-TTL:P3D
REFRESH-INTERVAL:P3D
CALSCALE:GREGORIAN
BEGIN:VEVENT
DTSTART:20231017T153000Z
DTEND:20231017T170000Z
X-MICROSOFT-CDO-ALLDAYEVENT:FALSE
SUMMARY:Legends and Mysteries of Baldwin County
DESCRIPTION:If you live in Baldwin County or have passed through\, you may have heard of the 'cat man' of Gulf Shores\, the stairway to nowhere in Bon Secour\, the leaning house of Fort Morgan\, or the man in a trench coat said to haunt a home in Elberta. Librarian Jeanette Bornholt recounts the tales\, so you can judge for yourself whether these and other stories are legends\, mysteries\, or based in truth.
X-ALT-DESC;FMTTYPE=text/html:If you live in Baldwin County or have passed through\, you may have heard of the &#39\;cat man&#39\; of Gulf Shores\, the stairway to nowhere in Bon Secour\, the leaning house of Fort Morgan\, or the man in a trench coat said to haunt a home in Elberta. Librarian Jeanette Bornholt recounts the tales\, so you can judge for yourself whether these and other stories are legends\, mysteries\, or based in truth.
LOCATION:James P. Nix Senior Center\, 1 Bayou Drive\, Fairhope\, AL
UID:e.1304.28116
SEQUENCE:3
DTSTAMP:20260424T105232Z
URL:http://business.eschamber.org/events/details/legends-and-mysteries-of-baldwin-county-28116
END:VEVENT

END:VCALENDAR
