BEGIN:VCALENDAR
VERSION:2.0
PRODID:-//ChamberMaster//Event Calendar 2.0//EN
METHOD:PUBLISH
X-PUBLISHED-TTL:P3D
REFRESH-INTERVAL:P3D
CALSCALE:GREGORIAN
BEGIN:VEVENT
DTSTART:20240322T233000Z
DTEND:20240323T013000Z
X-MICROSOFT-CDO-ALLDAYEVENT:FALSE
SUMMARY:Live Music in the Park
DESCRIPTION:We welcome two of this area's favorite local artists to the park! Kalyn Muller\, a frequent guest at numerous area restaurants and events\, brings a soulful blend of Folk\, Americana\, and other great music from the past and present. Baldwin County native Brad Lawley plays throughout the Southeast combining his versions of country and blues. The Greek Gals food truck will be on site! Just bring a chair!
X-ALT-DESC;FMTTYPE=text/html:We welcome two of this area&rsquo\;s favorite local artists to the park! Kalyn Muller\, a frequent guest at numerous area restaurants and events\, brings a soulful blend of Folk\, Americana\, and other great music from the past and present. Baldwin County native Brad Lawley plays throughout the Southeast combining his versions of country and blues. The Greek Gals food truck will be on site! Just bring a chair!
LOCATION:Historic Blakeley State Park
UID:e.1304.29906
SEQUENCE:3
DTSTAMP:20260426T022144Z
URL:http://business.eschamber.org/events/details/live-music-in-the-park-03-22-2024-29906
END:VEVENT

END:VCALENDAR
