BEGIN:VCALENDAR
VERSION:2.0
PRODID:-//ChamberMaster//Event Calendar 2.0//EN
METHOD:PUBLISH
X-PUBLISHED-TTL:P3D
REFRESH-INTERVAL:P3D
CALSCALE:GREGORIAN
BEGIN:VEVENT
DTSTART:20240524T233000Z
DTEND:20240525T013000Z
X-MICROSOFT-CDO-ALLDAYEVENT:FALSE
SUMMARY:Live Music in the Park
DESCRIPTION:We welcome popular local cover band High Cotton in May. High Cotton brings special energy to their performances of your favorite tunes! Members Russell Benefield\, Jr.\, Jason Donald\, Ray Pfaff and Bert Guidry are regulars at a number of area venues such as the Bluegill. Food by Pat Sledge catering.
X-ALT-DESC;FMTTYPE=text/html:We welcome popular local cover band High Cotton in May. High Cotton brings special energy to their performances of your favorite tunes! Members Russell Benefield\, Jr.\, Jason Donald\, Ray Pfaff and Bert Guidry are regulars at a number of area venues such as the Bluegill. Food by Pat Sledge catering.
LOCATION:Historic Blakeley State Park
UID:e.1304.31346
SEQUENCE:3
DTSTAMP:20260425T233645Z
URL:http://business.eschamber.org/events/details/live-music-in-the-park-05-24-2024-31346
END:VEVENT

END:VCALENDAR
