BEGIN:VCALENDAR
VERSION:2.0
PRODID:-//ChamberMaster//Event Calendar 2.0//EN
METHOD:PUBLISH
X-PUBLISHED-TTL:P3D
REFRESH-INTERVAL:P3D
CALSCALE:GREGORIAN
BEGIN:VEVENT
DTSTART:20240406T140000Z
DTEND:20240406T200000Z
X-MICROSOFT-CDO-ALLDAYEVENT:FALSE
SUMMARY:Living History Day
DESCRIPTION:Join us for artillery demonstrations\, guided tours of Alabama's largest Civil War battlefield\, and a special cruise exploring the sites where the major actions of the Mobile Campaign took place! Food provided by the Spanish Fort Masonic Lodge (11 AM-2 PM) Schedule of Events: Civil War Weapons Demonstrations On the hour 9:00 AM-2:00 PM 10:00-11:30 AM "Civil War on the Eastern Shore" Cruise A guided voyage of discovery exploring via river the sites on land and water where the major actions of the Civil War's Mobile Campaign took place. $27 adults/$17 kids ages 6-12 1:00 PM Guided Tour of Blakeley's Battlefield Demonstrations and tour complimentary with regular admission.
X-ALT-DESC;FMTTYPE=text/html:Join us for artillery demonstrations\, guided tours of Alabama&#39\;s largest Civil War battlefield\, and a special cruise exploring the sites where the major actions of the Mobile Campaign took place! Food provided by the Spanish Fort Masonic Lodge (11 AM-2 PM) Schedule of Events: Civil War Weapons Demonstrations On the hour 9:00 AM-2:00 PM 10:00-11:30 AM &ldquo\;Civil War on the Eastern Shore&rdquo\; Cruise A guided voyage of discovery exploring via river the sites on land and water where the major actions of the Civil War&rsquo\;s Mobile Campaign took place. $27 adults/$17 kids ages 6-12 1:00 PM Guided Tour of Blakeley&rsquo\;s Battlefield Demonstrations and tour complimentary with regular admission.
LOCATION:Historic Blakeley State Park
UID:e.1304.29989
SEQUENCE:3
DTSTAMP:20260426T005357Z
URL:http://business.eschamber.org/events/details/living-history-day-04-06-2024-29989
END:VEVENT

END:VCALENDAR
