BEGIN:VCALENDAR
VERSION:2.0
PRODID:-//ChamberMaster//Event Calendar 2.0//EN
METHOD:PUBLISH
X-PUBLISHED-TTL:P3D
REFRESH-INTERVAL:P3D
CALSCALE:GREGORIAN
BEGIN:VEVENT
DTSTART:20240323T150000Z
DTEND:20240323T230000Z
X-MICROSOFT-CDO-ALLDAYEVENT:FALSE
SUMMARY:Local Artisans Spring Market
DESCRIPTION:We are kicking off our 2024 seasonal markets with the Support Local Artisans Spring Market on Saturday\, March 23rd from 10:00am - 6:00pm. Local artisan vendors will be set up in the Courtyard at the heart of Eastern Shore Centre between Half Shell Oyster House and California Dreaming. There will be pottery\, home decorations\, handmade jewelry\, clothing\, candles\, herbs and seasonings\, wreaths\, caricature art\, face painting\, and so much more! MuffinJaw Designs will also be on stage to Blow Your Own Glass Vase. A separate post will go out when registration is open to reserve your spot. We hope to see you and your family on Saturday\, March 23rd from 10am - 6pm at the Eastern Shore Centre Courtyard & Stage.
X-ALT-DESC;FMTTYPE=text/html:We are kicking off our 2024 seasonal markets with the Support Local Artisans Spring Market on Saturday\, March 23rd from 10:00am - 6:00pm. Local artisan vendors will be set up in the Courtyard at the heart of Eastern Shore Centre between Half Shell Oyster House and California Dreaming. There will be pottery\, home decorations\, handmade jewelry\, clothing\, candles\, herbs and seasonings\, wreaths\, caricature art\, face painting\, and so much more! MuffinJaw Designs will also be on stage to Blow Your Own Glass Vase. A separate post will go out when registration is open to reserve your spot. We hope to see you and your family on Saturday\, March 23rd from 10am - 6pm at the Eastern Shore Centre Courtyard &amp\; Stage.
LOCATION:Eastern Shore Centre\, 30500 Hwy 181\, Spanish Fort\, AL
UID:e.1304.30034
SEQUENCE:3
DTSTAMP:20260426T022020Z
URL:http://business.eschamber.org/events/details/local-artisans-spring-market-03-23-2024-30034
END:VEVENT

END:VCALENDAR
