BEGIN:VCALENDAR
VERSION:2.0
PRODID:-//ChamberMaster//Event Calendar 2.0//EN
METHOD:PUBLISH
X-PUBLISHED-TTL:P3D
REFRESH-INTERVAL:P3D
CALSCALE:GREGORIAN
BEGIN:VEVENT
DTSTART:20240926T220000Z
DTEND:20240927T000000Z
X-MICROSOFT-CDO-ALLDAYEVENT:FALSE
SUMMARY:Luke's Tailgate Party
DESCRIPTION:Tailgate Party from 5:00 - 7:00PM Sport your favorite team colors and show off your spirit while enjoying hot-off-the grill burgers and hot dogs\, stadium snacks\, and ice-cold beverages during the event. Take a chance to win some cash betting on your favorite games by purchasing a Football Square benefitting Davine Possibilities. Event is free to attend.
X-ALT-DESC;FMTTYPE=text/html:Tailgate Party from 5:00 - 7:00PM Sport your favorite team colors and show off your spirit while enjoying hot-off-the grill burgers and hot dogs\, stadium snacks\, and ice-cold beverages during the event. Take a chance to win some cash betting on your favorite games by purchasing a Football Square benefitting Davine Possibilities. Event is free to attend.
LOCATION:NextHome Gulf Coast Living 19605 S Greeno Road Fairhope\, AL 36532
UID:e.1304.35704
SEQUENCE:3
DTSTAMP:20260425T181248Z
URL:http://business.eschamber.org/events/details/luke-s-tailgate-party-35704
END:VEVENT

END:VCALENDAR
