BEGIN:VCALENDAR
VERSION:2.0
PRODID:-//ChamberMaster//Event Calendar 2.0//EN
METHOD:PUBLISH
X-PUBLISHED-TTL:P3D
REFRESH-INTERVAL:P3D
CALSCALE:GREGORIAN
BEGIN:VEVENT
DTSTART:20240210T004500Z
DTEND:20240210T023000Z
X-MICROSOFT-CDO-ALLDAYEVENT:FALSE
SUMMARY:Maids of Jubilee Mardi Gras Parade - 2024
DESCRIPTION:Maids of Jubilee Parade
X-ALT-DESC;FMTTYPE=text/html:Maids of Jubilee Parade
LOCATION:On the streets of downtown Fairhope\, AL
UID:e.1304.29104
SEQUENCE:3
DTSTAMP:20260426T034824Z
URL:http://business.eschamber.org/events/details/maids-of-jubilee-mardi-gras-parade-2024-29104
END:VEVENT

END:VCALENDAR
