BEGIN:VCALENDAR
VERSION:2.0
PRODID:-//ChamberMaster//Event Calendar 2.0//EN
METHOD:PUBLISH
X-PUBLISHED-TTL:P3D
REFRESH-INTERVAL:P3D
CALSCALE:GREGORIAN
BEGIN:VEVENT
DTSTART;VALUE=DATE:20240219
DTEND;VALUE=DATE:20240229
TRANSP:TRANSPARENT
X-MICROSOFT-CDO-ALLDAYEVENT:TRUE
SUMMARY:MAJI HOPE MOVIE
DESCRIPTION:In celebration of 15 years of doing clean water projects in rural villages in east Africa\, MAJI HOPE has filmed a MOVIE. This immersive movie experience will be shown on a 75' wide\, 180 degree screen system and tells the story of a young girl and her African village as they hope for clean water. Bring your family\, friends\, students\, youth group and church and enjoy this presentation where you will follow her daily walk for water and see what happens when a well is drilled in her village. Expected attendance is more than 28\,000 people during this 6 day event. Mark your calendars now and click this link to purchase tickets.
X-ALT-DESC;FMTTYPE=text/html:In celebration of 15 years of doing clean water projects in rural villages in east Africa\, MAJI HOPE has filmed a MOVIE. This immersive movie experience will be shown on a 75&#39\; wide\, 180 degree screen system and tells the story of a young girl and her African village as they hope for clean water. Bring your family\, friends\, students\, youth group and church and enjoy this presentation where you will follow her daily walk for water and see what happens when a well is drilled in her village. Expected attendance is more than 28\,000 people during this 6 day event. Mark your calendars now and click this link to purchase tickets.
LOCATION:DAPHNE CIVIC CENTER
UID:e.1304.29090
SEQUENCE:3
DTSTAMP:20260426T034341Z
URL:http://business.eschamber.org/events/details/maji-hope-movie-29090
END:VEVENT

END:VCALENDAR
