BEGIN:VCALENDAR
VERSION:2.0
PRODID:-//ChamberMaster//Event Calendar 2.0//EN
METHOD:PUBLISH
X-PUBLISHED-TTL:P3D
REFRESH-INTERVAL:P3D
CALSCALE:GREGORIAN
BEGIN:VEVENT
DTSTART:20240419T210000Z
DTEND:20240419T230000Z
X-MICROSOFT-CDO-ALLDAYEVENT:FALSE
SUMMARY:Manci's Antique Club celebrating 100th Anniversary of it's building at 1715 Main St
DESCRIPTION:Manci's Antique Club celebrating 100th Anniversary of it's building at 1715 Main St
X-ALT-DESC;FMTTYPE=text/html:Manci&#39\;s Antique Club celebrating 100th Anniversary of it&#39\;s building at 1715 Main St
LOCATION:1715 Main St Daphne\, AL 36532
UID:e.1304.30089
SEQUENCE:3
DTSTAMP:20260426T005746Z
URL:http://business.eschamber.org/events/details/manci-s-antique-club-celebrating-100th-anniversary-of-it-s-building-at-1715-main-st-30089
END:VEVENT

END:VCALENDAR
