BEGIN:VCALENDAR
VERSION:2.0
PRODID:-//ChamberMaster//Event Calendar 2.0//EN
METHOD:PUBLISH
X-PUBLISHED-TTL:P3D
REFRESH-INTERVAL:P3D
CALSCALE:GREGORIAN
BEGIN:VEVENT
DTSTART:20240209T003000Z
DTEND:20240209T033000Z
X-MICROSOFT-CDO-ALLDAYEVENT:FALSE
SUMMARY:Mardi Gras Dance
DESCRIPTION:Mardi Gras Dance\n\nMusic by Roger & Elaine
X-ALT-DESC;FMTTYPE=text/html:Mardi Gras Dance<br />\nMusic by Roger &amp\; Elaine
LOCATION:James P. Nix Center\, 1 Bayou Drive\, Fairhope\, AL
UID:e.1304.29970
SEQUENCE:3
DTSTAMP:20260426T033707Z
URL:http://business.eschamber.org/events/details/mardi-gras-dance-29970
END:VEVENT

END:VCALENDAR
