BEGIN:VCALENDAR
VERSION:2.0
PRODID:-//ChamberMaster//Event Calendar 2.0//EN
METHOD:PUBLISH
X-PUBLISHED-TTL:P3D
REFRESH-INTERVAL:P3D
CALSCALE:GREGORIAN
BEGIN:VEVENT
DTSTART:20240523T220000Z
DTEND:20240524T000000Z
X-MICROSOFT-CDO-ALLDAYEVENT:FALSE
SUMMARY:Master Your Home Bar - The Art of Mixology
DESCRIPTION:For our May class\, we'll be conquering the Home Bar. Over the course of the class\, we'll answer various questions we've all had concerning home bars. Questions like: How do use this vermouth I got for Christmas 3 years ago? How many bottles of bitters should I have? What flavors work well together? Can I use old wine in cocktails? How do I make a batch cocktail? Are big ice cubes really better? What is included: Welcome Cocktail 4 cocktails Paired Snacks Cocktail take-home kit
X-ALT-DESC;FMTTYPE=text/html:For our May class\, we&rsquo\;ll be conquering the Home Bar. Over the course of the class\, we&rsquo\;ll answer various questions we&rsquo\;ve all had concerning home bars. Questions like: How do use this vermouth I got for Christmas 3 years ago? How many bottles of bitters should I have? What flavors work well together? Can I use old wine in cocktails? How do I make a batch cocktail? Are big ice cubes really better? What is included: Welcome Cocktail 4 cocktails Paired Snacks Cocktail take-home kit
LOCATION:The Barn at The Hope Farm
UID:e.1304.31331
SEQUENCE:3
DTSTAMP:20260425T233725Z
URL:http://business.eschamber.org/events/details/master-your-home-bar-the-art-of-mixology-31331
END:VEVENT

END:VCALENDAR
