BEGIN:VCALENDAR
VERSION:2.0
PRODID:-//ChamberMaster//Event Calendar 2.0//EN
METHOD:PUBLISH
X-PUBLISHED-TTL:P3D
REFRESH-INTERVAL:P3D
CALSCALE:GREGORIAN
BEGIN:VEVENT
DTSTART:20240502T130000Z
DTEND:20240502T143000Z
X-MICROSOFT-CDO-ALLDAYEVENT:FALSE
SUMMARY:Mayors Prayer Breakfast 2024
DESCRIPTION:Join us for the 40th Annual Mayors Prayer Breakfast on Thursday\, May 2nd with guest speaker\n\nLynn Oldshue\, author of Our Southern Souls.\n\n\n\nDoors open at 7:30 AM \n\nProgram begins at 8:00 AM \n\n\n\nThank you to our presenting sponsor: Thomas Hospital. \n\nPeople need to be heard \, especially strangers. I listen to tell their stories and to give them a voice. Stories help us find common ground\, and break down invisible walls that keep us from understanding each other. \n \n\nYazoo City\, Mississippi is where I grew up. Today I live on a little farm outside of Fairhope\, Alabama. The Mississippi Delta and Mobile\, the Birthplace of Mardi Gras\, are my favorite places for pictures and stories\, but I do this everywhere I go for my blog\, Our Southern Souls (now also  a book). \n \n\nI also write stories for Lagniappe newspaper and report for Alabama Public Radio. My series about domestic violence\, "From Hell to Hope" won first place in feature writing in 2019 from the Alabama Press Association. The next year\, my series about sex trafficking\, "Sexual Slavery in South Alabama\," won the 2020 William H. Johnson Print Journalism Award given by the Medical Association for the State of Alabama and the second place in feature writing for the Green Eyeshade Awards recognizing excellence in journalism in the southeast. \n \n\nI'm part of the APR team that won a national Sigma Delta Chi award from the Society of Professional Journalists for a documentary on the long-term impact of the BP oil spill. In 2023\, I won the Nappie for "Favorite Local Content Creator" and was recognized as the "Volunteer of the Year" by the United Way of Southwest Alabama. \n \n\nPeople and their stories give inspiration and hope in a crazy world. My mission is to help them tell those stories.
X-ALT-DESC;FMTTYPE=text/html:<p>Join us for the 40th Annual Mayors Prayer Breakfast on Thursday\, May 2nd with guest speaker<br />\n<strong>Lynn Oldshue\, author of Our Southern Souls.</strong><br />\n<br />\nDoors open at 7:30 AM&nbsp\;<br />\nProgram begins at 8:00 AM&nbsp\;<br />\n<br />\nThank you to our presenting sponsor: Thomas Hospital.&nbsp\;</p>\n\n<p dir="ltr" style="color: rgb(66\, 66\, 66)\; font-family: &quot\;Segoe UI&quot\;\, &quot\;Segoe UI Web (West European)&quot\;\, &quot\;Segoe UI&quot\;\, -apple-system\, &quot\;system-ui&quot\;\, Roboto\, &quot\;Helvetica Neue&quot\;\, sans-serif\; font-size: 15px\; margin-top: 0px\; margin-bottom: 0px\; line-height: 1.38\;"><span style="border: 0px\; font-style: inherit\; font-variant-ligatures: inherit\; font-variant-caps: inherit\; font-variant-numeric: normal\; font-variant-east-asian: normal\; font-variant-alternates: normal\; font-weight: inherit\; font-stretch: inherit\; font-size: 13pt\; line-height: inherit\; font-family: &quot\;Times New Roman&quot\;\, serif\; font-optical-sizing: inherit\; font-kerning: inherit\; font-feature-settings: inherit\; font-variation-settings: inherit\; margin: 0px\; padding: 0px\; vertical-align: baseline\; color: rgb(51\, 51\, 51)\;">People need to be heard \, especially strangers. I listen to tell their stories and to give them a voice. Stories help us find common ground\, and break down invisible walls that keep us from understanding each other.&nbsp\;</span></p>\n&nbsp\;\n\n<p dir="ltr" style="color: rgb(66\, 66\, 66)\; font-family: &quot\;Segoe UI&quot\;\, &quot\;Segoe UI Web (West European)&quot\;\, &quot\;Segoe UI&quot\;\, -apple-system\, &quot\;system-ui&quot\;\, Roboto\, &quot\;Helvetica Neue&quot\;\, sans-serif\; font-size: 15px\; margin-top: 0px\; margin-bottom: 0px\; line-height: 1.38\;"><span style="border: 0px\; font-style: inherit\; font-variant-ligatures: inherit\; font-variant-caps: inherit\; font-variant-numeric: normal\; font-variant-east-asian: normal\; font-variant-alternates: normal\; font-weight: inherit\; font-stretch: inherit\; font-size: 13pt\; line-height: inherit\; font-family: &quot\;Times New Roman&quot\;\, serif\; font-optical-sizing: inherit\; font-kerning: inherit\; font-feature-settings: inherit\; font-variation-settings: inherit\; margin: 0px\; padding: 0px\; vertical-align: baseline\; color: rgb(51\, 51\, 51)\;">Yazoo City\, Mississippi is where I grew up. Today I live on a little farm outside of Fairhope\, Alabama. The Mississippi Delta and Mobile\, the Birthplace of Mardi Gras\, are my favorite places for pictures and stories\, but I do this everywhere I go for my blog\,&nbsp\;</span><span style="border: 0px\; font-style: italic\; font-variant-ligatures: inherit\; font-variant-caps: inherit\; font-variant-numeric: normal\; font-variant-east-asian: normal\; font-variant-alternates: normal\; font-weight: inherit\; font-stretch: inherit\; font-size: 13pt\; line-height: inherit\; font-family: &quot\;Times New Roman&quot\;\, serif\; font-optical-sizing: inherit\; font-kerning: inherit\; font-feature-settings: inherit\; font-variation-settings: inherit\; margin: 0px\; padding: 0px\; vertical-align: baseline\; color: rgb(51\, 51\, 51)\;">Our Southern Souls</span><span style="border: 0px\; font-style: inherit\; font-variant-ligatures: inherit\; font-variant-caps: inherit\; font-variant-numeric: normal\; font-variant-east-asian: normal\; font-variant-alternates: normal\; font-weight: inherit\; font-stretch: inherit\; font-size: 13pt\; line-height: inherit\; font-family: &quot\;Times New Roman&quot\;\, serif\; font-optical-sizing: inherit\; font-kerning: inherit\; font-feature-settings: inherit\; font-variation-settings: inherit\; margin: 0px\; padding: 0px\; vertical-align: baseline\; color: rgb(51\, 51\, 51)\;">&nbsp\;(now also&nbsp\; a book).&nbsp\;</span></p>\n&nbsp\;\n\n<p dir="ltr" style="color: rgb(66\, 66\, 66)\; font-family: &quot\;Segoe UI&quot\;\, &quot\;Segoe UI Web (West European)&quot\;\, &quot\;Segoe UI&quot\;\, -apple-system\, &quot\;system-ui&quot\;\, Roboto\, &quot\;Helvetica Neue&quot\;\, sans-serif\; font-size: 15px\; margin-top: 0px\; margin-bottom: 0px\; line-height: 1.38\;"><span style="border: 0px\; font-style: inherit\; font-variant-ligatures: inherit\; font-variant-caps: inherit\; font-variant-numeric: normal\; font-variant-east-asian: normal\; font-variant-alternates: normal\; font-weight: inherit\; font-stretch: inherit\; font-size: 13pt\; line-height: inherit\; font-family: &quot\;Times New Roman&quot\;\, serif\; font-optical-sizing: inherit\; font-kerning: inherit\; font-feature-settings: inherit\; font-variation-settings: inherit\; margin: 0px\; padding: 0px\; vertical-align: baseline\; color: rgb(51\, 51\, 51)\;">I also write stories for&nbsp\;</span><span style="border: 0px\; font-style: italic\; font-variant-ligatures: inherit\; font-variant-caps: inherit\; font-variant-numeric: normal\; font-variant-east-asian: normal\; font-variant-alternates: normal\; font-weight: inherit\; font-stretch: inherit\; font-size: 13pt\; line-height: inherit\; font-family: &quot\;Times New Roman&quot\;\, serif\; font-optical-sizing: inherit\; font-kerning: inherit\; font-feature-settings: inherit\; font-variation-settings: inherit\; margin: 0px\; padding: 0px\; vertical-align: baseline\; color: rgb(51\, 51\, 51)\;">Lagniappe&nbsp\;</span><span style="border: 0px\; font-style: inherit\; font-variant-ligatures: inherit\; font-variant-caps: inherit\; font-variant-numeric: normal\; font-variant-east-asian: normal\; font-variant-alternates: normal\; font-weight: inherit\; font-stretch: inherit\; font-size: 13pt\; line-height: inherit\; font-family: &quot\;Times New Roman&quot\;\, serif\; font-optical-sizing: inherit\; font-kerning: inherit\; font-feature-settings: inherit\; font-variation-settings: inherit\; margin: 0px\; padding: 0px\; vertical-align: baseline\; color: rgb(51\, 51\, 51)\;">newspaper and report for Alabama Public Radio. My series about domestic violence\, &ldquo\;From Hell to Hope&rdquo\; won first place in feature writing in 2019 from the Alabama Press Association. The next year\, my series about sex trafficking\, &ldquo\;Sexual Slavery in South Alabama\,&rdquo\; won the&nbsp\;</span><span style="border: 0px\; font-style: italic\; font-variant-ligatures: inherit\; font-variant-caps: inherit\; font-variant-numeric: normal\; font-variant-east-asian: normal\; font-variant-alternates: normal\; font-weight: inherit\; font-stretch: inherit\; font-size: 13pt\; line-height: inherit\; font-family: &quot\;Times New Roman&quot\;\, serif\; font-optical-sizing: inherit\; font-kerning: inherit\; font-feature-settings: inherit\; font-variation-settings: inherit\; margin: 0px\; padding: 0px\; vertical-align: baseline\; color: rgb(51\, 51\, 51)\;">2020 William H. Johnson Print Journalism Award&nbsp\;</span><span style="border: 0px\; font-style: inherit\; font-variant-ligatures: inherit\; font-variant-caps: inherit\; font-variant-numeric: normal\; font-variant-east-asian: normal\; font-variant-alternates: normal\; font-weight: inherit\; font-stretch: inherit\; font-size: 13pt\; line-height: inherit\; font-family: &quot\;Times New Roman&quot\;\, serif\; font-optical-sizing: inherit\; font-kerning: inherit\; font-feature-settings: inherit\; font-variation-settings: inherit\; margin: 0px\; padding: 0px\; vertical-align: baseline\; color: rgb(51\, 51\, 51)\;">given by the Medical Association for the State of Alabama and the second place in feature writing for the&nbsp\;</span><span style="border: 0px\; font-style: italic\; font-variant-ligatures: inherit\; font-variant-caps: inherit\; font-variant-numeric: normal\; font-variant-east-asian: normal\; font-variant-alternates: normal\; font-weight: inherit\; font-stretch: inherit\; font-size: 13pt\; line-height: inherit\; font-family: &quot\;Times New Roman&quot\;\, serif\; font-optical-sizing: inherit\; font-kerning: inherit\; font-feature-settings: inherit\; font-variation-settings: inherit\; margin: 0px\; padding: 0px\; vertical-align: baseline\; color: rgb(51\, 51\, 51)\;">Green Eyeshade Awards</span><span style="border: 0px\; font-style: inherit\; font-variant-ligatures: inherit\; font-variant-caps: inherit\; font-variant-numeric: normal\; font-variant-east-asian: normal\; font-variant-alternates: normal\; font-weight: inherit\; font-stretch: inherit\; font-size: 13pt\; line-height: inherit\; font-family: &quot\;Times New Roman&quot\;\, serif\; font-optical-sizing: inherit\; font-kerning: inherit\; font-feature-settings: inherit\; font-variation-settings: inherit\; margin: 0px\; padding: 0px\; vertical-align: baseline\; color: rgb(51\, 51\, 51)\;">&nbsp\;recognizing excellence in journalism in the southeast.&nbsp\;</span></p>\n&nbsp\;\n\n<p dir="ltr" style="color: rgb(66\, 66\, 66)\; font-family: &quot\;Segoe UI&quot\;\, &quot\;Segoe UI Web (West European)&quot\;\, &quot\;Segoe UI&quot\;\, -apple-system\, &quot\;system-ui&quot\;\, Roboto\, &quot\;Helvetica Neue&quot\;\, sans-serif\; font-size: 15px\; margin-top: 0px\; margin-bottom: 0px\; line-height: 1.38\;"><span style="border: 0px\; font-style: inherit\; font-variant-ligatures: inherit\; font-variant-caps: inherit\; font-variant-numeric: normal\; font-variant-east-asian: normal\; font-variant-alternates: normal\; font-weight: inherit\; font-stretch: inherit\; font-size: 13pt\; line-height: inherit\; font-family: &quot\;Times New Roman&quot\;\, serif\; font-optical-sizing: inherit\; font-kerning: inherit\; font-feature-settings: inherit\; font-variation-settings: inherit\; margin: 0px\; padding: 0px\; vertical-align: baseline\; color: rgb(51\, 51\, 51)\;">I&rsquo\;m part of the APR team that won a national Sigma Delta Chi award from the Society of Professional Journalists for a documentary on the long-term impact of the BP oil spill. In 2023\, I won the Nappie for &ldquo\;Favorite Local Content Creator&rdquo\; and was recognized as the &ldquo\;Volunteer of the Year&rdquo\; by the United Way of Southwest Alabama.&nbsp\;</span></p>\n&nbsp\;\n\n<p dir="ltr" style="color: rgb(66\, 66\, 66)\; font-family: &quot\;Segoe UI&quot\;\, &quot\;Segoe UI Web (West European)&quot\;\, &quot\;Segoe UI&quot\;\, -apple-system\, &quot\;system-ui&quot\;\, Roboto\, &quot\;Helvetica Neue&quot\;\, sans-serif\; font-size: 15px\; margin-top: 0px\; margin-bottom: 0px\; line-height: 1.38\;"><span style="border: 0px\; font-style: inherit\; font-variant-ligatures: inherit\; font-variant-caps: inherit\; font-variant-numeric: normal\; font-variant-east-asian: normal\; font-variant-alternates: normal\; font-weight: inherit\; font-stretch: inherit\; font-size: 13pt\; line-height: inherit\; font-family: &quot\;Times New Roman&quot\;\, serif\; font-optical-sizing: inherit\; font-kerning: inherit\; font-feature-settings: inherit\; font-variation-settings: inherit\; margin: 0px\; padding: 0px\; vertical-align: baseline\; color: rgb(51\, 51\, 51)\;">People and their stories give inspiration and hope in a crazy world. My mission is to help them tell those stories.</span></p>\n
LOCATION:Daphne Civic Center 2603 US-98 Daphne\, AL 36526
UID:e.1304.30036
SEQUENCE:3
DTSTAMP:20260425T233408Z
URL:http://business.eschamber.org/events/details/mayors-prayer-breakfast-2024-30036
END:VEVENT

END:VCALENDAR
