BEGIN:VCALENDAR
VERSION:2.0
PRODID:-//ChamberMaster//Event Calendar 2.0//EN
METHOD:PUBLISH
X-PUBLISHED-TTL:P3D
REFRESH-INTERVAL:P3D
CALSCALE:GREGORIAN
BEGIN:VEVENT
DTSTART:20241005T003000Z
DTEND:20241005T003000Z
X-MICROSOFT-CDO-ALLDAYEVENT:FALSE
SUMMARY:MJ the Illusion: A Michael Jackson Thriller Tribute
DESCRIPTION:Get ready for a Halloween experience like no other as MJ The Illusion: A Michael Jackson Thriller Tribute takes over OWA Theater on Friday\, October 4th! From the moment you step through the doors\, the atmosphere will transport you to an era where the King of Pop reigned supreme featuring unforgettable hits like "Thriller\," "Smooth Criminal\," "Billie Jean\," and many more. Feel the magic as the incredible performer Michael Knight brings Michael Jackson's legendary moves and energy to life.\n\n\n\nBut this isn't just any tribute show it's a full Thriller experience! OWA Theater will be transformed into a haunted haven\, complete with fog machines and spooky lighting that will send shivers down your spine. Whether you're a lifelong MJ fan or just looking for the perfect way to celebrate Halloween\, this event is guaranteed to leave you thrilled and mesmerized.\n\n\n\nDon't miss out on this incredible night! Secure your tickets today: https://visitowa.com/thriller-tribute/
X-ALT-DESC;FMTTYPE=text/html:Get ready for a Halloween experience like no other as MJ The Illusion: A Michael Jackson Thriller Tribute takes over OWA Theater on Friday\, October 4<sup>th</sup>! From the moment you step through the doors\, the atmosphere will transport you to an era where the King of Pop reigned supreme featuring unforgettable hits like &quot\;Thriller\,&quot\; &quot\;Smooth Criminal\,&quot\; &quot\;Billie Jean\,&quot\; and many more. Feel the magic as the incredible performer Michael Knight brings Michael Jackson&rsquo\;s legendary moves and energy to life.<br />\n<br />\nBut this isn&#39\;t just any tribute show&mdash\;it&#39\;s a full Thriller experience! OWA Theater will be transformed into a haunted haven\, complete with fog machines and spooky lighting that will send shivers down your spine. Whether you&#39\;re a lifelong MJ fan or just looking for the perfect way to celebrate Halloween\, this event is guaranteed to leave you thrilled and mesmerized.<br />\n<br />\nDon&rsquo\;t miss out on this incredible night! Secure your tickets today:&nbsp\;https://visitowa.com/thriller-tribute/&nbsp\;<br />\n<br />\n&nbsp\;
LOCATION:OWA Theater
UID:e.1304.35664
SEQUENCE:3
DTSTAMP:20260425T164740Z
URL:http://business.eschamber.org/events/details/mj-the-illusion-a-michael-jackson-thriller-tribute-35664
END:VEVENT

END:VCALENDAR
