BEGIN:VCALENDAR
VERSION:2.0
PRODID:-//ChamberMaster//Event Calendar 2.0//EN
METHOD:PUBLISH
X-PUBLISHED-TTL:P3D
REFRESH-INTERVAL:P3D
CALSCALE:GREGORIAN
BEGIN:VEVENT
DTSTART:20240324T000000Z
DTEND:20240324T020000Z
X-MICROSOFT-CDO-ALLDAYEVENT:FALSE
SUMMARY:Mobile Ballet presents "The Sleeping Beauty"
DESCRIPTION:Mobile Ballet presents The Sleeping Beauty with live orchestra\, Conductor David Ott.
X-ALT-DESC;FMTTYPE=text/html:Mobile Ballet presents The Sleeping Beauty with live orchestra\, Conductor David Ott.
LOCATION:Mobile Civic Center Theater\, Mobile\, AL
UID:e.1304.30071
SEQUENCE:3
DTSTAMP:20260426T021826Z
URL:http://business.eschamber.org/events/details/mobile-ballet-presents-the-sleeping-beauty-30071
END:VEVENT

END:VCALENDAR
