BEGIN:VCALENDAR
VERSION:2.0
PRODID:-//ChamberMaster//Event Calendar 2.0//EN
METHOD:PUBLISH
X-PUBLISHED-TTL:P3D
REFRESH-INTERVAL:P3D
CALSCALE:GREGORIAN
BEGIN:VEVENT
DTSTART:20240310T190000Z
DTEND:20240310T210000Z
X-MICROSOFT-CDO-ALLDAYEVENT:FALSE
SUMMARY:Mobile Ballet Sleeping BeauTea Fairytale Tea Party
DESCRIPTION:Mobile Ballet invites you to join us at our new Eastern Shore Studio in Daphne for a fun Sunday afternoon Fairytale Tea Party! Meet cast members of the upcoming Sleeping Beauty ballet production\, see a short performance from the show\, hear the story of Sleeping Beauty read aloud\, enjoy themed snacks and activities\, and get fun photo ops. Parents\, come have fun along with your little ones\, and try your luck at the raffle for several must-have items. Children of all ages (3+) are welcome and will enjoy the event   boys and girls. Tea Party attire\, costumes and tutus welcome. Tickets available at www.MobileBallet.org/sleeping-beauty-tea
X-ALT-DESC;FMTTYPE=text/html:Mobile Ballet invites you to join us at our new Eastern Shore Studio in Daphne for a fun Sunday afternoon Fairytale Tea Party! Meet cast members of the upcoming Sleeping Beauty ballet production\, see a short performance from the show\, hear the story of Sleeping Beauty read aloud\, enjoy themed snacks and activities\, and get fun photo ops. Parents\, come have fun along with your little ones\, and try your luck at the raffle for several must-have items. Children of all ages (3+) are welcome and will enjoy the event &mdash\; boys and girls. Tea Party attire\, costumes and tutus welcome. Tickets available at www.MobileBallet.org/sleeping-beauty-tea
LOCATION:Mobile Ballet Eastern Shore\, 26150 Equity Drive\, Daphne AL 36526
UID:e.1304.29994
SEQUENCE:3
DTSTAMP:20260426T021918Z
URL:http://business.eschamber.org/events/details/mobile-ballet-sleeping-beautea-fairytale-tea-party-29994
END:VEVENT

END:VCALENDAR
