BEGIN:VCALENDAR
VERSION:2.0
PRODID:-//ChamberMaster//Event Calendar 2.0//EN
METHOD:PUBLISH
X-PUBLISHED-TTL:P3D
REFRESH-INTERVAL:P3D
CALSCALE:GREGORIAN
BEGIN:VEVENT
DTSTART:20240420T150000Z
DTEND:20240420T230000Z
X-MICROSOFT-CDO-ALLDAYEVENT:FALSE
SUMMARY:Mobile Bay Anime Fest
DESCRIPTION:Costume Contest with $500 cash prize for best in show.\n\nVendors\, gaming\, cosplay\, panels
X-ALT-DESC;FMTTYPE=text/html:Costume Contest with $500 cash prize for best in show.<br />\nVendors\, gaming\, cosplay\, panels
LOCATION:Daphne Civic Center\, 2603 US Hwy 98\, Daphne\, AL
UID:e.1304.30014
SEQUENCE:3
DTSTAMP:20260426T005255Z
URL:http://business.eschamber.org/events/details/mobile-bay-anime-fest-30014
END:VEVENT

END:VCALENDAR
