BEGIN:VCALENDAR
VERSION:2.0
PRODID:-//ChamberMaster//Event Calendar 2.0//EN
METHOD:PUBLISH
X-PUBLISHED-TTL:P3D
REFRESH-INTERVAL:P3D
CALSCALE:GREGORIAN
BEGIN:VEVENT
DTSTART:20240725T140000Z
DTEND:20240725T163000Z
X-MICROSOFT-CDO-ALLDAYEVENT:FALSE
SUMMARY:Mobile Bay Dolphin Cruise
DESCRIPTION:Mobile Bay is one of the most diverse maritime habitats in the nation. Among its most notable aquatic residents are dolphins\, which can often be seen throughout the length of the bay. On this special cruise into the middle reaches of Mobile Bay\, guests will be treated to scenic views of the area and learn about its rich natural habitat as we keep an eye out for dolphins.
X-ALT-DESC;FMTTYPE=text/html:Mobile Bay is one of the most diverse maritime habitats in the nation. Among its most notable aquatic residents are dolphins\, which can often be seen throughout the length of the bay. On this special cruise into the middle reaches of Mobile Bay\, guests will be treated to scenic views of the area and learn about its rich natural habitat as we keep an eye out for dolphins.
LOCATION:Bartram Landing at Five Rivers Delta Resource Center
UID:e.1304.31426
SEQUENCE:3
DTSTAMP:20260425T205034Z
URL:http://business.eschamber.org/events/details/mobile-bay-dolphin-cruise-31426
END:VEVENT

END:VCALENDAR
