BEGIN:VCALENDAR
VERSION:2.0
PRODID:-//ChamberMaster//Event Calendar 2.0//EN
METHOD:PUBLISH
X-PUBLISHED-TTL:P3D
REFRESH-INTERVAL:P3D
CALSCALE:GREGORIAN
BEGIN:VEVENT
DTSTART:20240519T150000Z
DTEND:20240519T200000Z
X-MICROSOFT-CDO-ALLDAYEVENT:FALSE
SUMMARY:Mobile Bay Maker's Market
DESCRIPTION:Since 2021\, Mobile Bay Maker's Market has been a open air market showcasing local makers\, creators\, artists\, and growers. We are located in the south park of Fairhope Pier. We are a family & dog friendly event. Local musicians and multiple food trucks.
X-ALT-DESC;FMTTYPE=text/html:Since 2021\, Mobile Bay Maker&#39\;s Market has been a open air market showcasing local makers\, creators\, artists\, and growers. We are located in the south park of Fairhope Pier. We are a family &amp\; dog friendly event. Local musicians and multiple food trucks.
LOCATION:South Park of Fairhope Pier 1 Fairhope Ave
UID:e.1304.29982
SEQUENCE:3
DTSTAMP:20260425T233423Z
URL:http://business.eschamber.org/events/details/mobile-bay-maker-s-market-05-19-2024-29982
END:VEVENT

END:VCALENDAR
