BEGIN:VCALENDAR
VERSION:2.0
PRODID:-//ChamberMaster//Event Calendar 2.0//EN
METHOD:PUBLISH
X-PUBLISHED-TTL:P3D
REFRESH-INTERVAL:P3D
CALSCALE:GREGORIAN
BEGIN:VEVENT
DTSTART:20241109T170000Z
DTEND:20241109T210000Z
X-MICROSOFT-CDO-ALLDAYEVENT:FALSE
SUMMARY:Mobile Museum of Art's Groovy 60th Birthday Party
DESCRIPTION:This family-friendly day will be fun for all ages and include a petting zoo\, live music\, food trucks\, art classes\, a time capsule burial\, and free admission to the Museum all day long. Visitors can pre-register for classes happening throughout the day. Build and decorate your own clay plate with Lana Hall\, or draw from the beauty of the outdoors with Derek Norman through botanical drawings. Finally\, be sure to explore the galleries and experience masterworks by renowned artists like Georgia O'Keeffe\, Andrew Wyeth\, Jeffrey Gibson\, Josef Albers\, Gene Davis\, Frank Stella\, Yves Tanguy\, Kay Sage\, and more!
X-ALT-DESC;FMTTYPE=text/html:This family-friendly day will be fun for all ages and include a petting zoo\, live music\, food trucks\, art classes\, a time capsule burial\, and free admission to the Museum all day long. Visitors can pre-register for classes happening throughout the day. Build and decorate your own clay plate with Lana Hall\, or draw from the beauty of the outdoors with Derek Norman through botanical drawings. Finally\, be sure to explore the galleries and experience masterworks by renowned artists like Georgia O&rsquo\;Keeffe\, Andrew Wyeth\, Jeffrey Gibson\, Josef Albers\, Gene Davis\, Frank Stella\, Yves Tanguy\, Kay Sage\, and more!&nbsp\;<br />\n&nbsp\;
LOCATION:Mobile Museum of Art\, 4850 Museum Drive\, Mobile\, AL
UID:e.1304.35827
SEQUENCE:3
DTSTAMP:20260425T153120Z
URL:http://business.eschamber.org/events/details/mobile-museum-of-art-s-groovy-60th-birthday-party-35827
END:VEVENT

END:VCALENDAR
