BEGIN:VCALENDAR
VERSION:2.0
PRODID:-//ChamberMaster//Event Calendar 2.0//EN
METHOD:PUBLISH
X-PUBLISHED-TTL:P3D
REFRESH-INTERVAL:P3D
CALSCALE:GREGORIAN
BEGIN:VEVENT
DTSTART:20241026T200000Z
DTEND:20241026T220000Z
X-MICROSOFT-CDO-ALLDAYEVENT:FALSE
SUMMARY:Monster Mashup 2024
DESCRIPTION:Mobile Bay Roller Derby presents Monster Mashup roller derby double-header.
X-ALT-DESC;FMTTYPE=text/html:Mobile Bay Roller Derby presents Monster Mashup roller derby double-header.
LOCATION:Daphne Civic Center\, 2603 US Hwy 98\, Daphne\, AL
UID:e.1304.35760
SEQUENCE:3
DTSTAMP:20260425T164715Z
URL:http://business.eschamber.org/events/details/monster-mashup-2024-35760
END:VEVENT

END:VCALENDAR
