BEGIN:VCALENDAR
VERSION:2.0
PRODID:-//ChamberMaster//Event Calendar 2.0//EN
METHOD:PUBLISH
X-PUBLISHED-TTL:P3D
REFRESH-INTERVAL:P3D
CALSCALE:GREGORIAN
BEGIN:VEVENT
DTSTART:20241017T131500Z
DTEND:20241017T141500Z
X-MICROSOFT-CDO-ALLDAYEVENT:FALSE
SUMMARY:Morning Marketing: Daphne 10/17/24
DESCRIPTION:Morning Marketing's monthly roundtable setting offers each member a minute to introduce their business\, promote specials and plus upcoming events.\n\n\n\nThank you to this month's sponsors\, Navigator Credit Union!
X-ALT-DESC;FMTTYPE=text/html:<span style="color: rgb(68\, 68\, 68)\; font-family: Khmer\, sans-serif\; font-size: 16px\;">Morning Marketing&#39\;s monthly roundtable setting offers each member a minute to introduce their business\, promote specials and plus upcoming events.</span><br />\n<br />\n<span style="font-size:14px\;"><strong>Thank you to this month&#39\;s sponsors\,&nbsp\;<span style="color: rgb(0\, 0\, 0)\; font-family: Arial\; text-align: center\; white-space-collapse: preserve\; background-color: rgb(255\, 242\, 204)\;">Navigator Credit Union!</span></strong></span><br />\n&nbsp\;
LOCATION:Daphne Senior Center 2605 US-98 Daphne\, AL 36526
UID:e.1304.29965
SEQUENCE:3
DTSTAMP:20260425T164913Z
URL:http://business.eschamber.org/events/details/morning-marketing-daphne-10-17-24-29965
END:VEVENT

END:VCALENDAR
