BEGIN:VCALENDAR
VERSION:2.0
PRODID:-//ChamberMaster//Event Calendar 2.0//EN
METHOD:PUBLISH
X-PUBLISHED-TTL:P3D
REFRESH-INTERVAL:P3D
CALSCALE:GREGORIAN
BEGIN:VEVENT
DTSTART:20240516T131500Z
DTEND:20240516T141500Z
X-MICROSOFT-CDO-ALLDAYEVENT:FALSE
SUMMARY:Morning Marketing: Fairhope 05/16/24
DESCRIPTION:Morning Marketing's monthly roundtable setting offers each member a minute to introduce their business\, promote specials and plug upcoming events. This month's Morning Marketing Sponsor is All in Credit Union!
X-ALT-DESC;FMTTYPE=text/html:<span style="color: rgb(68\, 68\, 68)\; font-family: Khmer\, sans-serif\; font-size: 16px\;">Morning Marketing&#39\;s monthly roundtable setting offers each member a minute to introduce their business\, promote specials and plug upcoming events. This month&#39\;s Morning Marketing Sponsor is All in Credit Union!</span>
LOCATION:James P. Nix Center- Fairhope 1 Bayou Drive Fairhope\, AL 36532
UID:e.1304.29960
SEQUENCE:3
DTSTAMP:20260425T233725Z
URL:http://business.eschamber.org/events/details/morning-marketing-fairhope-05-16-24-29960
END:VEVENT

END:VCALENDAR
