BEGIN:VCALENDAR
VERSION:2.0
PRODID:-//ChamberMaster//Event Calendar 2.0//EN
METHOD:PUBLISH
X-PUBLISHED-TTL:P3D
REFRESH-INTERVAL:P3D
CALSCALE:GREGORIAN
BEGIN:VEVENT
DTSTART:20240215T141500Z
DTEND:20240215T151500Z
X-MICROSOFT-CDO-ALLDAYEVENT:FALSE
SUMMARY:Morning Marketing Meeting: Fairhope 2/15/24
DESCRIPTION:Morning Marketing's monthly roundtable setting offers each member a minute to introduce their business\, promote specials and plus upcoming events.\n\n\n\nThank you to our sponsor: Eastern Shore Business Networking Group.
X-ALT-DESC;FMTTYPE=text/html:<span style="color: rgb(68\, 68\, 68)\; font-family: Khmer\, sans-serif\; font-size: 16px\;">Morning Marketing&#39\;s monthly roundtable setting offers each member a minute to introduce their business\, promote specials and plus upcoming events.<br />\n<br />\nThank you to our sponsor: Eastern Shore Business Networking Group.&nbsp\;</span>
LOCATION:James P. Nix Center 1 Bayou Dr. Fairhope\, AL\, 36532
UID:e.1304.29957
SEQUENCE:3
DTSTAMP:20260426T035142Z
URL:http://business.eschamber.org/events/details/morning-marketing-meeting-fairhope-2-15-24-29957
END:VEVENT

END:VCALENDAR
