BEGIN:VCALENDAR
VERSION:2.0
PRODID:-//ChamberMaster//Event Calendar 2.0//EN
METHOD:PUBLISH
X-PUBLISHED-TTL:P3D
REFRESH-INTERVAL:P3D
CALSCALE:GREGORIAN
BEGIN:VEVENT
DTSTART:20251218T141500Z
DTEND:20251218T151500Z
X-MICROSOFT-CDO-ALLDAYEVENT:FALSE
SUMMARY:Morning Marketing: Spanish Fort 12/18/25
DESCRIPTION:Morning Marketing's monthly roundtable setting offers each member a minute to introduce their business\, promote specials and plug upcoming events. \n\nThis Month's Morning Marketing Sponsor is Eastern Shore Lanes.
X-ALT-DESC;FMTTYPE=text/html:<span style="color: rgb(68\, 68\, 68)\; font-family: Khmer\, sans-serif\; font-size: 16px\;">Morning Marketing&#39\;s monthly roundtable setting offers each member a minute to introduce their business\, promote specials and plug upcoming events.&nbsp\;<br />\nThis Month&#39\;s Morning Marketing Sponsor is Eastern Shore Lanes.</span><br />\n<br />\n&nbsp\;
LOCATION:Prodisee Pantry- Spanish Fort 9315 Spanish Fort Blvd Spanish Fort\, AL 36527
UID:e.1304.39501
SEQUENCE:3
DTSTAMP:20260422T155414Z
URL:http://business.eschamber.org/events/details/morning-marketing-spanish-fort-12-18-25-39501
END:VEVENT

END:VCALENDAR
