BEGIN:VCALENDAR
VERSION:2.0
PRODID:-//ChamberMaster//Event Calendar 2.0//EN
METHOD:PUBLISH
X-PUBLISHED-TTL:P3D
REFRESH-INTERVAL:P3D
CALSCALE:GREGORIAN
BEGIN:VEVENT
DTSTART:20240321T131500Z
DTEND:20240321T141500Z
X-MICROSOFT-CDO-ALLDAYEVENT:FALSE
SUMMARY:Morning Marketing: Spanish Fort 3/21/24
DESCRIPTION:Morning Marketing's monthly roundtable setting offers each member a minute to introduce their business\, promote specials and plug upcoming events. \n\n\n\nThis Month's Morning Marketing Sponsor is McAleers.
X-ALT-DESC;FMTTYPE=text/html:<span style="color: rgb(68\, 68\, 68)\; font-family: Khmer\, sans-serif\; font-size: 16px\;">Morning Marketing&#39\;s monthly roundtable setting offers each member a minute to introduce their business\, promote specials and plug upcoming events.&nbsp\;</span><br />\n<br />\nThis Month&#39\;s Morning Marketing Sponsor is McAleers.&nbsp\;&nbsp\;
LOCATION:Prodisee Pantry- Spanish Fort 9315 Spanish Fort Blvd Spanish Fort\, AL 36527
UID:e.1304.29958
SEQUENCE:3
DTSTAMP:20260426T022144Z
URL:http://business.eschamber.org/events/details/morning-marketing-spanish-fort-3-21-24-29958
END:VEVENT

END:VCALENDAR
