BEGIN:VCALENDAR
VERSION:2.0
PRODID:-//ChamberMaster//Event Calendar 2.0//EN
METHOD:PUBLISH
X-PUBLISHED-TTL:P3D
REFRESH-INTERVAL:P3D
CALSCALE:GREGORIAN
BEGIN:VEVENT
DTSTART:20240413T140000Z
DTEND:20240413T170000Z
X-MICROSOFT-CDO-ALLDAYEVENT:FALSE
SUMMARY:Moving Day South Alabama: A Walk for Parkinson's
DESCRIPTION:Get ready to get moving with the Parkinson's community in Mobile.  The 7th annual Moving Day: A Walk for Parkinson's\, takes place Saturday April 13th at Saad Healthcare in Mobile. The event is free and features food\, music\, resources\, a kid's zone and family fun! Moving Day South Alabama\, presented by Saad Healthcare\, raises money for the Parkinson's community here in Mobile and Baldwin County. Stacey Faber from the Parkinson's Foundation and Rachel Poole from Saad Healthcare have joined us to talk about the walk and how you can get involved. Moving Day: A Walk for Parkinson's Saad Healthcare 1515 S University Blvd\, Mobile\, AL 36609 Saturday April 13\, 2024  9am-12pm To Register and more info visit: movingdaysouthalabama.org
X-ALT-DESC;FMTTYPE=text/html:Get ready to get moving with the Parkinson&rsquo\;s community in Mobile.&nbsp\; The 7th annual Moving Day: A Walk for Parkinson&rsquo\;s\, takes place Saturday April 13th at Saad Healthcare in Mobile. The event is free and features food\, music\, resources\, a kid&rsquo\;s zone and family fun! Moving Day South Alabama\, presented by Saad Healthcare\, raises money for the Parkinson&rsquo\;s community here in Mobile and Baldwin County. Stacey Faber from the Parkinson&rsquo\;s Foundation and Rachel Poole from Saad Healthcare have joined us to talk about the walk and how you can get involved. Moving Day: A Walk for Parkinson&rsquo\;s Saad Healthcare 1515 S University Blvd\, Mobile\, AL 36609 Saturday April 13\, 2024&nbsp\; 9am-12pm To Register and more info visit: movingdaysouthalabama.org
LOCATION:Saad Healthcare \, 1515 S University Blvd\, Mobile\, AL 36609
UID:e.1304.30106
SEQUENCE:3
DTSTAMP:20260426T005525Z
URL:http://business.eschamber.org/events/details/moving-day-south-alabama-a-walk-for-parkinson-s-30106
END:VEVENT

END:VCALENDAR
