BEGIN:VCALENDAR
VERSION:2.0
PRODID:-//ChamberMaster//Event Calendar 2.0//EN
METHOD:PUBLISH
X-PUBLISHED-TTL:P3D
REFRESH-INTERVAL:P3D
CALSCALE:GREGORIAN
BEGIN:VEVENT
DTSTART:20240308T000000Z
DTEND:20240308T030000Z
X-MICROSOFT-CDO-ALLDAYEVENT:FALSE
SUMMARY:MURD-ARR! A Pirate Murder Mystery Dinner Show
DESCRIPTION:Enjoy a delectable plated dinner situated around an up-close show. Ahoy there\, me hearties! Welcome to the Caribbean with its warm breezes\, white beaches\, barrels of rum and pirates aplenty! The year be 1735 and the place be Cursed Skull Island\, an island with both buried treasure and a curse   or so the legend goes. This be a tale filled with lies\, deception\, rum and a dead body. Aye\, there be a murder to solve. One of these pirates killed their Captain\, but which one?\n\n\n\nThis family entertainment features actors in a live\, interactive\, and comedic experience with audience members as they work to solve the "murder" through physical clues\, spoken dialogue\, and inferred character motives.\n\n\n\nThere are no dress code or age restrictions but we do encourage pirate attire
X-ALT-DESC;FMTTYPE=text/html:<div>\n<div>\n<div><span style="color:rgb(75\, 82\, 89)\; font-family:montserrat\,sans-serif\; font-size:18px">Enjoy a delectable plated dinner situated around an up-close show. Ahoy there\, me hearties! Welcome to the Caribbean with its warm breezes\, white beaches\, barrels of rum and pirates aplenty! The year be 1735 and the place be Cursed Skull Island\, an island with both buried treasure and a curse &ndash\; or so the legend goes. This be a tale filled with lies\, deception\, rum and a dead body. Aye\, there be a murder to solve. One of these pirates killed their Captain\, but which one?</span><br />\n<br />\n<span style="color:rgb(75\, 82\, 89)\; font-family:montserrat\,sans-serif\; font-size:18px">This family entertainment features actors in a live\, interactive\, and comedic experience with audience members as they work to solve the &quot\;murder&quot\; through physical clues\, spoken dialogue\, and inferred character motives.</span><br />\n<br />\n<span style="color:rgb(75\, 82\, 89)\; font-family:montserrat\,sans-serif\; font-size:18px">There are no dress code or age restrictions but we do encourage pirate attire</span></div>\n</div>\n</div>\n
LOCATION:Brandon Styles Theater at OWA 1501 S. OWA Blvd.\, Foley\, AL 36535
UID:e.1304.26398
SEQUENCE:3
DTSTAMP:20260426T021842Z
URL:http://business.eschamber.org/events/details/murd-arr-a-pirate-murder-mystery-dinner-show-26398
END:VEVENT

END:VCALENDAR
