BEGIN:VCALENDAR
VERSION:2.0
PRODID:-//ChamberMaster//Event Calendar 2.0//EN
METHOD:PUBLISH
X-PUBLISHED-TTL:P3D
REFRESH-INTERVAL:P3D
CALSCALE:GREGORIAN
BEGIN:VEVENT
DTSTART:20240427T150000Z
DTEND:20240427T190000Z
X-MICROSOFT-CDO-ALLDAYEVENT:FALSE
SUMMARY:NAMI Baldwin County Mental Health Fair
DESCRIPTION:NAMI Baldwin County 3rd Annual Mental Health Fair April
X-ALT-DESC;FMTTYPE=text/html:NAMI Baldwin County 3rd Annual Mental Health Fair April
LOCATION:Honey Bee Park\, Robertsdale AL 22780 State Highway 59 North Robertsdale\, AL 36567
UID:e.1304.31300
SEQUENCE:3
DTSTAMP:20260426T005524Z
URL:http://business.eschamber.org/events/details/nami-baldwin-county-mental-health-fair-31300
END:VEVENT

END:VCALENDAR
