BEGIN:VCALENDAR
VERSION:2.0
PRODID:-//ChamberMaster//Event Calendar 2.0//EN
METHOD:PUBLISH
X-PUBLISHED-TTL:P3D
REFRESH-INTERVAL:P3D
CALSCALE:GREGORIAN
BEGIN:VEVENT
DTSTART:20240808T170000Z
DTEND:20240808T220000Z
X-MICROSOFT-CDO-ALLDAYEVENT:FALSE
SUMMARY:National Pickleball Day
DESCRIPTION:Celebrate National Pickleball Day with us on August 8th! Enjoy a day of open play from noon to 5pm  just $5 for non-members and free for members. Whether you're a seasoned player or a newcomer\, it's a perfect opportunity to have fun\, improve your game\, and meet fellow players!\n\nCourt Reserve account needed.
X-ALT-DESC;FMTTYPE=text/html:Celebrate National Pickleball Day with us on August 8<sup>th</sup>! Enjoy a day of open play from noon to 5pm&mdash\; just $5 for non-members and free for members. Whether you&rsquo\;re a seasoned player or a newcomer\, it&rsquo\;s a perfect opportunity to have fun\, improve your game\, and meet fellow players!<br />\n<span style="font-family:aptos\,sans-serif"><span style="font-size:11.0pt">Court Reserve account needed.&nbsp\;</span></span>
LOCATION:Pickleball at OWA
UID:e.1304.34148
SEQUENCE:3
DTSTAMP:20260423T202145Z
URL:http://business.eschamber.org/events/details/national-pickleball-day-34148
END:VEVENT

END:VCALENDAR
