BEGIN:VCALENDAR
VERSION:2.0
PRODID:-//ChamberMaster//Event Calendar 2.0//EN
METHOD:PUBLISH
X-PUBLISHED-TTL:P3D
REFRESH-INTERVAL:P3D
CALSCALE:GREGORIAN
BEGIN:VEVENT
DTSTART:20240320T170000Z
DTEND:20240320T180000Z
X-MICROSOFT-CDO-ALLDAYEVENT:FALSE
SUMMARY:Networking at Noon: The Mill
DESCRIPTION:Networking at Noon: The Mill\n \n\nNetworking at Noon is all about enjoying lunch at one of 3 restaurants featured each month along the Eastern Shore. Our goal is to help members expand their networks beyond a traditional business connection. You may meet with some old friends you haven't seen in a while or meet some new folks\, it will be a different group each time!\n\n\n\nYou can choose from 3 restaurant each month. For March\, your options are The Mill in Fairhope\, Manci's in Daphne and California Dreaming in Spanish Fort. Make sure you are registering for the restaurant you want to attend.\n\n\n\nSpots fill up fast! If you are not one of the first 10 people to register\, you will be placed on the waitlist. In case someone is unable to attend\, we will call to inform you that you have been moved up to attend.
X-ALT-DESC;FMTTYPE=text/html:<span style="font-size: 14px\;"><span style="font-family: arial\;"><u><strong>Networking at Noon: The Mill</strong></u></span></span>\n<p style="font-size: 16px\; box-sizing: border-box\; margin: 0px\; caret-color: rgb(68\, 68\, 68)\; color: rgb(68\, 68\, 68)\; font-stretch: normal\; line-height: normal\; font-family: &quot\;Helvetica Neue&quot\;\; min-height: 15px\;">&nbsp\;</p>\n\n<p style="box-sizing: border-box\; margin: 0px\; font-stretch: normal\; line-height: normal\;"><font color="#444444" face="arial"><span style="font-size: 12px\; caret-color: rgb(68\, 68\, 68)\;">Networking at Noon is all about enjoying lunch at one of 3 restaurants featured each month along the Eastern Shore.&nbsp\;Our goal is to help members expand their networks beyond a traditional business connection.&nbsp\;You may meet with some old friends you haven&rsquo\;t seen in a while or meet some new folks\, it will be a different group each time!</span></font><br />\n<br />\n<font color="#444444" face="arial"><span style="font-size: 12px\; caret-color: rgb(68\, 68\, 68)\;">You can choose from 3 restaurant each month. For&nbsp\;</span></font><strong>March</strong><font color="#444444" face="arial"><span style="font-size: 12px\; caret-color: rgb(68\, 68\, 68)\;">\, your options are The Mill in Fairhope\,&nbsp\;Manci&#39\;s&nbsp\;in Daphne and California Dreaming in Spanish Fort. Make sure you are registering for the restaurant you want to attend.<br />\n<br />\nSpots fill up fast!&nbsp\;If you are not one&nbsp\;of the first 10 people to register\, you will be placed on the waitlist. In case someone is unable to attend\, we will call to inform you that you have been moved up to attend.&nbsp\;</span></font></p>\n
LOCATION:The Mill 85 N Bancroft St\, Fairhope\, AL 36532
UID:e.1304.29998
SEQUENCE:3
DTSTAMP:20260426T021820Z
URL:http://business.eschamber.org/events/details/networking-at-noon-the-mill-29998
END:VEVENT

END:VCALENDAR
