BEGIN:VCALENDAR
VERSION:2.0
PRODID:-//ChamberMaster//Event Calendar 2.0//EN
METHOD:PUBLISH
X-PUBLISHED-TTL:P3D
REFRESH-INTERVAL:P3D
CALSCALE:GREGORIAN
BEGIN:VEVENT
DTSTART:20241030T203000Z
DTEND:20241030T220000Z
X-MICROSOFT-CDO-ALLDAYEVENT:FALSE
SUMMARY:New Location Grand Opening: Express Employment Professionals
DESCRIPTION:New Location Grand Opening: Express Employment Professionals
X-ALT-DESC;FMTTYPE=text/html:New Location Grand Opening: Express Employment Professionals&nbsp\;<br />\n
LOCATION:18390 Vaughn Road Summerdale\, AL 36580
UID:e.1304.35805
SEQUENCE:3
DTSTAMP:20260425T165521Z
URL:http://business.eschamber.org/events/details/new-location-grand-opening-express-employment-professionals-35805
END:VEVENT

END:VCALENDAR
