BEGIN:VCALENDAR
VERSION:2.0
PRODID:-//ChamberMaster//Event Calendar 2.0//EN
METHOD:PUBLISH
X-PUBLISHED-TTL:P3D
REFRESH-INTERVAL:P3D
CALSCALE:GREGORIAN
BEGIN:VEVENT
DTSTART:20240909T150000Z
DTEND:20240909T160000Z
X-MICROSOFT-CDO-ALLDAYEVENT:FALSE
SUMMARY:New Location Grand Opening/Open House: Studio B Dance Academy
DESCRIPTION:New Location Grand Opening/Open House: Studio B Dance Academy
X-ALT-DESC;FMTTYPE=text/html:New Location Grand Opening/Open House: Studio B Dance Academy
LOCATION:26050 Equity Dr. Suite C Daphne\, AL 36526
UID:e.1304.35668
SEQUENCE:3
DTSTAMP:20260425T182026Z
URL:http://business.eschamber.org/events/details/new-location-grand-opening-open-house-studio-b-dance-academy-35668
END:VEVENT

END:VCALENDAR
