BEGIN:VCALENDAR
VERSION:2.0
PRODID:-//ChamberMaster//Event Calendar 2.0//EN
METHOD:PUBLISH
X-PUBLISHED-TTL:P3D
REFRESH-INTERVAL:P3D
CALSCALE:GREGORIAN
BEGIN:VEVENT
DTSTART:20240501T150000Z
DTEND:20240501T170000Z
X-MICROSOFT-CDO-ALLDAYEVENT:FALSE
SUMMARY:New Location/Grand Opening: VIPcare
DESCRIPTION:New Location/Grand Opening: VIPcare
X-ALT-DESC;FMTTYPE=text/html:New Location/Grand Opening: VIPcare
LOCATION:151 Fly Creek Ave Suite 411 Fairhope AL 36532 Same shopping center as Publix
UID:e.1304.31298
SEQUENCE:3
DTSTAMP:20260425T233623Z
URL:http://business.eschamber.org/events/details/new-location-grand-opening-vipcare-31298
END:VEVENT

END:VCALENDAR
