BEGIN:VCALENDAR
VERSION:2.0
PRODID:-//ChamberMaster//Event Calendar 2.0//EN
METHOD:PUBLISH
X-PUBLISHED-TTL:P3D
REFRESH-INTERVAL:P3D
CALSCALE:GREGORIAN
BEGIN:VEVENT
DTSTART:20240408T180000Z
DTEND:20240408T190000Z
X-MICROSOFT-CDO-ALLDAYEVENT:FALSE
SUMMARY:New Location Ground Breaking - Fallingwater Properties
DESCRIPTION:New Location Ground Breaking - Fallingwater Properties DBA aDoor Properties
X-ALT-DESC;FMTTYPE=text/html:New Location Ground Breaking - Fallingwater Properties DBA aDoor Properties
LOCATION:31100 Fallingwater Loop Spanish Fort\, AL 36527 Take US 31 to Bedrock Blvd (on the right) Continue on Bedrock\, Fallingwater Loop is on the right\, directly after Stonebridge Elementary School.
UID:e.1304.29975
SEQUENCE:3
DTSTAMP:20260426T005352Z
URL:http://business.eschamber.org/events/details/new-location-ground-breaking-fallingwater-properties-29975
END:VEVENT

END:VCALENDAR
