BEGIN:VCALENDAR
VERSION:2.0
PRODID:-//ChamberMaster//Event Calendar 2.0//EN
METHOD:PUBLISH
X-PUBLISHED-TTL:P3D
REFRESH-INTERVAL:P3D
CALSCALE:GREGORIAN
BEGIN:VEVENT
DTSTART:20240828T203000Z
DTEND:20240828T210000Z
X-MICROSOFT-CDO-ALLDAYEVENT:FALSE
SUMMARY:New Location Open House - TBS Safety
DESCRIPTION:New Location Open House: TBS Safety
X-ALT-DESC;FMTTYPE=text/html:New Location Open House: TBS Safety<br />\n
LOCATION:8019 Kettig Square Daphne AL 36526
UID:e.1304.34176
SEQUENCE:3
DTSTAMP:20260425T193115Z
URL:http://business.eschamber.org/events/details/new-location-open-house-tbs-safety-34176
END:VEVENT

END:VCALENDAR
