BEGIN:VCALENDAR
VERSION:2.0
PRODID:-//ChamberMaster//Event Calendar 2.0//EN
METHOD:PUBLISH
X-PUBLISHED-TTL:P3D
REFRESH-INTERVAL:P3D
CALSCALE:GREGORIAN
BEGIN:VEVENT
DTSTART:20240308T150000Z
DTEND:20240308T160000Z
X-MICROSOFT-CDO-ALLDAYEVENT:FALSE
SUMMARY:New Location Ribbon Cutting/Open House - Haley’s Little Fish
DESCRIPTION:New Location Ribbon Cutting/Open House - Haley's Little Fish
X-ALT-DESC;FMTTYPE=text/html:&nbsp\;New Location Ribbon Cutting/Open House - Haley&rsquo\;s Little Fish&nbsp\;<br />\n
LOCATION:7942 American Way Daphne\, AL 36526
UID:e.1304.30021
SEQUENCE:3
DTSTAMP:20260426T022122Z
URL:http://business.eschamber.org/events/details/new-location-ribbon-cutting-open-house-haley-s-little-fish-30021
END:VEVENT

END:VCALENDAR
