BEGIN:VCALENDAR
VERSION:2.0
PRODID:-//ChamberMaster//Event Calendar 2.0//EN
METHOD:PUBLISH
X-PUBLISHED-TTL:P3D
REFRESH-INTERVAL:P3D
CALSCALE:GREGORIAN
BEGIN:VEVENT
DTSTART:20240920T180000Z
DTEND:20240920T190000Z
X-MICROSOFT-CDO-ALLDAYEVENT:FALSE
SUMMARY:New Mural Ribbon Cutting & Open House: Eastern Shore Centre
DESCRIPTION:New Mural Ribbon Cutting & Open House: Eastern Shore Centre
X-ALT-DESC;FMTTYPE=text/html:New Mural Ribbon Cutting &amp\; Open House: Eastern Shore Centre
LOCATION:30500 Hwy 181 Spanish Fort\, AL 36527
UID:e.1304.35700
SEQUENCE:3
DTSTAMP:20260425T181344Z
URL:http://business.eschamber.org/events/details/new-mural-ribbon-cutting-open-house-eastern-shore-centre-35700
END:VEVENT

END:VCALENDAR
