BEGIN:VCALENDAR
VERSION:2.0
PRODID:-//ChamberMaster//Event Calendar 2.0//EN
METHOD:PUBLISH
X-PUBLISHED-TTL:P3D
REFRESH-INTERVAL:P3D
CALSCALE:GREGORIAN
BEGIN:VEVENT
DTSTART:20240504T140000Z
DTEND:20240504T200000Z
X-MICROSOFT-CDO-ALLDAYEVENT:FALSE
SUMMARY:Nexstar Media Keith Vrazel
DESCRIPTION:The 2nd Annual Gulf Coast Home & Outdoor Expo will take place on Saturday\, May 4 from 9AM   3PM at the Daphne Civic Center in Daphne\, AL. WE NEED MORE VENDORS! In 2023\, 37 vendors were present and over 1\,800 people attended this event! The event will be free to the public. Unlike other Home & Garden events\, The Gulf Coast Home & Outdoor Expo has the promotion backing of a major network television station\, WKRG (CBS) to encourage maximum attendance. All vendors are asked to provide a giveaway valued at $250 or more.
X-ALT-DESC;FMTTYPE=text/html:The 2nd Annual Gulf Coast Home &amp\; Outdoor Expo will take place on Saturday\, May 4 from 9AM &ndash\; 3PM at the Daphne Civic Center in Daphne\, AL. WE NEED MORE VENDORS! In 2023\, 37 vendors were present and over 1\,800 people attended this event! The event will be free to the public. Unlike other Home &amp\; Garden events\, The Gulf Coast Home &amp\; Outdoor Expo has the promotion backing of a major network television station\, WKRG (CBS) to encourage maximum attendance. All vendors are asked to provide a giveaway valued at $250 or more.
LOCATION:The Daphne Civic Center
UID:e.1304.30079
SEQUENCE:3
DTSTAMP:20260425T233422Z
URL:http://business.eschamber.org/events/details/nexstar-media-keith-vrazel-30079
END:VEVENT

END:VCALENDAR
