BEGIN:VCALENDAR
VERSION:2.0
PRODID:-//ChamberMaster//Event Calendar 2.0//EN
METHOD:PUBLISH
X-PUBLISHED-TTL:P3D
REFRESH-INTERVAL:P3D
CALSCALE:GREGORIAN
BEGIN:VEVENT
DTSTART:20241217T170000Z
DTEND:20241217T190000Z
X-MICROSOFT-CDO-ALLDAYEVENT:FALSE
SUMMARY:Nix Center Holly Jolly Christmas Open House
DESCRIPTION:Complimentary gift wrap\; hot chocolate bar\; cookie decorating\; Christmas bows\; Light refreshments\; Jam'n Folks Christmas music
X-ALT-DESC;FMTTYPE=text/html:Complimentary gift wrap\; hot chocolate bar\; cookie decorating\; Christmas bows\; Light refreshments\; Jam&#39\;n Folks Christmas music
LOCATION:James P. Nix Center\,1 Bayou Drive\, Fairhope\, AL
UID:e.1304.35996
SEQUENCE:3
DTSTAMP:20260425T124334Z
URL:http://business.eschamber.org/events/details/nix-center-holly-jolly-christmas-open-house-35996
END:VEVENT

END:VCALENDAR
